BEGIN:VCALENDAR
VERSION:2.0
PRODID:-//APECS Sweden - ECPv5.9.1//NONSGML v1.0//EN
CALSCALE:GREGORIAN
METHOD:PUBLISH
X-WR-CALNAME:APECS Sweden
X-ORIGINAL-URL:https://www.apecssweden.se
X-WR-CALDESC:Events for APECS Sweden
BEGIN:VTIMEZONE
TZID:Europe/Stockholm
BEGIN:DAYLIGHT
TZOFFSETFROM:+0100
TZOFFSETTO:+0200
TZNAME:CEST
DTSTART:20240331T010000
END:DAYLIGHT
BEGIN:STANDARD
TZOFFSETFROM:+0200
TZOFFSETTO:+0100
TZNAME:CET
DTSTART:20241027T010000
END:STANDARD
END:VTIMEZONE
BEGIN:VEVENT
DTSTART;TZID=Europe/Stockholm:20241010T100000
DTEND;TZID=Europe/Stockholm:20241010T170000
DTSTAMP:20260425T191252
CREATED:20241002T090732Z
LAST-MODIFIED:20241002T090831Z
UID:1109-1728554400-1728579600@www.apecssweden.se
SUMMARY:13th One Health Sweden Scientific Meeting
DESCRIPTION:Sessions:\nSession 1: “Arctic One Health”\nSession 2: “The Ecological Dimension of One Health”\nSession 3: “The effect of environmental contaminants on ecosystem health”\nSession 4: “Under the One Health umbrella” \nThe meeting\, including lunch is free of charge. There is a limited number of seats so we will apply a first come\, first served basis. If you register but do not show up at the meeting you will receive an invoice of 500 SEK.\nA restaurant in central Umeå is booked for participants who have signed up for dinner. Dinner and drinks will be at your own expense.
URL:https://www.apecssweden.se/event/13th-one-health-sweden-scientific-meeting/
LOCATION:PO Bäckströms sal\, SLU\, Umeå\, Sweden\, Skogsmarksgränd 17\, UME\, Västerbotten\, 90736\, Sweden
END:VEVENT
END:VCALENDAR