BEGIN:VCALENDAR
VERSION:2.0
PRODID:-//APECS Sweden - ECPv5.9.1//NONSGML v1.0//EN
CALSCALE:GREGORIAN
METHOD:PUBLISH
X-WR-CALNAME:APECS Sweden
X-ORIGINAL-URL:https://www.apecssweden.se
X-WR-CALDESC:Events for APECS Sweden
BEGIN:VTIMEZONE
TZID:Europe/Stockholm
BEGIN:DAYLIGHT
TZOFFSETFROM:+0100
TZOFFSETTO:+0200
TZNAME:CEST
DTSTART:20240331T010000
END:DAYLIGHT
BEGIN:STANDARD
TZOFFSETFROM:+0200
TZOFFSETTO:+0100
TZNAME:CET
DTSTART:20241027T010000
END:STANDARD
END:VTIMEZONE
BEGIN:VEVENT
DTSTART;TZID=Europe/Stockholm:20241203T130000
DTEND;TZID=Europe/Stockholm:20241203T153000
DTSTAMP:20260425T174340
CREATED:20241202T135200Z
LAST-MODIFIED:20241202T135200Z
UID:1159-1733230800-1733239800@www.apecssweden.se
SUMMARY:Arctic Movie Club in Umeå
DESCRIPTION:Join us for an engaging event hosted by the Arctic Graduate School at Umeå University!  \nThis is a fantastic opportunity to connect with fellow enthusiasts and explore thought-provoking films related to Arctic themes. Don’t miss out on the chance to broaden your understanding of the Arctic environment and its challenges. \nFor more details\, check out the event page here. \nWe look forward to seeing you there!
URL:https://www.apecssweden.se/event/arctic-movie-club-in-umea/
LOCATION:Galaxen – Jupiter\, Universums Gränd 4\, UMEÅ\, Västerbotten\, 907 36\, Sweden
CATEGORIES:Movie_club
ATTACH;FMTTYPE=image/webp:https://www.apecssweden.se/wp-content/uploads/ags-movie-club-16-9.webp
ORGANIZER;CN="Arctic%20Graduate%20School":MAILTO:anngelica.kristoferqvist@umu.se
END:VEVENT
END:VCALENDAR